BEGIN:VCALENDAR
VERSION:2.0
PRODID:-//Marine Servicenter - Yacht Sales - ECPv6.15.20//NONSGML v1.0//EN
CALSCALE:GREGORIAN
METHOD:PUBLISH
X-ORIGINAL-URL:https://marinesc.com
X-WR-CALDESC:Events for Marine Servicenter - Yacht Sales
REFRESH-INTERVAL;VALUE=DURATION:PT1H
X-Robots-Tag:noindex
X-PUBLISHED-TTL:PT1H
BEGIN:VTIMEZONE
TZID:UTC
BEGIN:STANDARD
TZOFFSETFROM:+0000
TZOFFSETTO:+0000
TZNAME:UTC
DTSTART:20220101T000000
END:STANDARD
END:VTIMEZONE
BEGIN:VTIMEZONE
TZID:America/Vancouver
BEGIN:DAYLIGHT
TZOFFSETFROM:-0800
TZOFFSETTO:-0700
TZNAME:PDT
DTSTART:20210314T100000
END:DAYLIGHT
BEGIN:STANDARD
TZOFFSETFROM:-0700
TZOFFSETTO:-0800
TZNAME:PST
DTSTART:20211107T090000
END:STANDARD
BEGIN:DAYLIGHT
TZOFFSETFROM:-0800
TZOFFSETTO:-0700
TZNAME:PDT
DTSTART:20220313T100000
END:DAYLIGHT
BEGIN:STANDARD
TZOFFSETFROM:-0700
TZOFFSETTO:-0800
TZNAME:PST
DTSTART:20221106T090000
END:STANDARD
BEGIN:DAYLIGHT
TZOFFSETFROM:-0800
TZOFFSETTO:-0700
TZNAME:PDT
DTSTART:20230312T100000
END:DAYLIGHT
BEGIN:STANDARD
TZOFFSETFROM:-0700
TZOFFSETTO:-0800
TZNAME:PST
DTSTART:20231105T090000
END:STANDARD
BEGIN:DAYLIGHT
TZOFFSETFROM:-0800
TZOFFSETTO:-0700
TZNAME:PDT
DTSTART:20240310T100000
END:DAYLIGHT
BEGIN:STANDARD
TZOFFSETFROM:-0700
TZOFFSETTO:-0800
TZNAME:PST
DTSTART:20241103T090000
END:STANDARD
END:VTIMEZONE
BEGIN:VEVENT
DTSTART;TZID=UTC:20230930T100000
DTEND;TZID=UTC:20230930T163000
DTSTAMP:20260423T090201
CREATED:20220901T211959Z
LAST-MODIFIED:20230911T171359Z
UID:21707-1696068000-1696091400@marinesc.com
SUMMARY:2023-2nd Annual SoCal Jeanneau Rendezvous
DESCRIPTION:Greetings So Cal Jeanneau Owners! \nQuick note to remind you of the upcoming So Cal Jeanneau Rendezvous Sept 30 from 10am – 4:30pm at Glorietta Bay on Coronado Island. \nThis years event will feature the following fun activities: \n\n10am –  Noon = Sailing Parade on the Bay\nNoon –  1:30 = Skipper Bags and Lunch on Us – on the Beach at Glorietta Bay\n1:30 – 3:30 = SoCal Owner Social on the Beach\n3:30 – 4:30 = Door Prize Extravaganza – everybody wins!\n\nWe look forward to seeing you on Saturday Sept. 30 for the 2nd Annual SoCal Jeanneau Rendezvous. \nJoin Us for the 2nd Annual SoCal Jeanneau Rendezvous! \nMarine Servicenter & Jeanneau America are counting down the days for our fun So Cal Jeanneau Family Event!!\nRegistration Form \nItinerary\n 
URL:https://marinesc.com/event/2023-socal-jeanneau-rendezvous/
LOCATION:Glorietta Bay\, Coronado\, CA\, 92118\, United States
CATEGORIES:rendezvous
ATTACH;FMTTYPE=image/jpeg:https://marinesc.com/wp-content/uploads/2022/09/save-the-date-rendezvous.jpg
END:VEVENT
BEGIN:VEVENT
DTSTART;TZID=America/Vancouver:20230623T150000
DTEND;TZID=America/Vancouver:20230625T083000
DTSTAMP:20260423T090201
CREATED:20220705T221203Z
LAST-MODIFIED:20220901T195827Z
UID:20099-1687532400-1687681800@marinesc.com
SUMMARY:2023-21st Annual PNW Jeanneau Rendezvous
DESCRIPTION: \nSave The Date Now for the 21st Annual PNW Jeanneau Rendezvous! Marine Servicenter has reserved bulk slips at Cap Sante Marina and we are counting down the days until our Jeanneau Family can meet again!\n*Check back in Spring 2023 for our Registration Form & Itinerary.\n  \n 
URL:https://marinesc.com/event/2023-21st-annual-pnw-jeanneau-rendezvous/
LOCATION:CA
CATEGORIES:rendezvous
END:VEVENT
BEGIN:VEVENT
DTSTART;TZID=America/Vancouver:20220827T100000
DTEND;TZID=America/Vancouver:20220827T170000
DTSTAMP:20260423T090201
CREATED:20220714T213330Z
LAST-MODIFIED:20220818T220925Z
UID:20327-1661594400-1661619600@marinesc.com
SUMMARY:2022-1st Annual SoCal Jeanneau Rendezvous
DESCRIPTION:1st Annual SoCal Jeanneau Rendezvous Event Itinerary (Click Below):\nEvent Itinerary\n  \n\nRegister for this year’s rendezvous by filling out the online form (Click Below):\nOn-line Registration Form \n \nREGISTRATION DEADLINE – Wednesday\, August 17\, 2022. *Please note that the registration form is online and ALL attendees must be registered to attend.\nIf you have any questions please call the San Diego Sales Office at (619) 733-0559. \n  \nSchedule of Events\n\nSaturday\, August 27\, 2022\n\n10:00 am – Noon:  Jeanneau Parade of Yachts on San Diego Bay! –Join us for this fun sailing event starting at 10 am on the Bay side of south Harbor Island and sailing to Glorietta Bay on Coronado Island.  We will have a new Jeanneau 380 Performance and a new Jeanneau 410 sailing in the Parade!  Look for the red Jeanneau Flags flying from the mast.  We will start sailing as a group shortly after 10 am and we will be communicating on VHF 72.  Please obey the rules of the road and give plenty of room to other Jeanneau Owners.  This is not a race; it is a fun group sailing event.  However\, you do want to look your best for the “judges” and have fun sailing to the event! Don’t have time to sail with us?  Meet us at Glorietta Bay and start your Rendezvous Fun by joining in at Noon onward!\nNoon – 2:00 pm:  Anchoring & Welcome Skipper Bags with Lunch on Us! Anchor your boat for the day or a longer overnight stay.  Is Anchoring new to you or intimidating?  If so\, we will have a Marine Servicenter team in a dinghy on Glorietta Bay to help coach you on anchoring your Jeanneau for a fun afternoon & overnight should you wish to stay.         Once you are anchored\, if you have a dinghy\, come to the Jeanneau 380 Performance & Jeanneau 410 rafted to our host powerboat to pick up your Skipper Bag filled with goodies and Rendezvous T-Shirts.  Marine Servicenter will also be providing a box lunch for you and your crew to enjoy in the cockpit of your boat. If you do not have a Dinghy\, hail Marine Servicenter on VHF 72 and we will shuttle you from your boat to the host boat and back to your boat.\n2:00 pm – 4:00 pm: Jeanneau Owners Open Boat Tours. We will be splitting the owner’s group into 2 parts for this fun event.  Group A will have an hour to go to any of the Group B boats for a tour and meet/ greet.  After 1 hour\, Group B will go to any of the Group A boats for a tour and meet/ greet. If you have a Dinghy\, please use it for this event. If you do not have a dinghy\, please hail Marine Servicenter on VHF 72 and we will shuttle you. \n4:00 pm – 5:00 pm: SoCal Jeanneau Rendezvous door prize extravaganza!  – Location = on your boat.  We will be pulling boat names from the hat and raffling off fabulous prizes from some of the best marine vendors on the planet!  Every Boat Wins!  The raffle will take place on VHF 72 and when done we will run prizes out to owners on their boats. The Marine Servicenter staff will be heading back to our Sales Dock with the new Jeanneau 380 Performance & Jeanneau 410 at the end of the raffle.  You are welcome to join us for a sail back up the Bay.  Or\, stick around and enjoy a nice evening anchored in a fabulous spot at Glorietta Bay!\n5:00 pm – Onward: Dinner on your own. Get together with new Jeanneau friends with a BBQ aboard your boat or make reservations at one of the great restaurants in Coronado.  \n\nThank you for attending our 1st of many to come SoCal Jeanneau Owners Rendezvous. We want to hear from you! The Rendezvous is an event for Jeanneau Owners and if you have ideas on where you would like to go and what you would like to do for future Rendezvous\, please contact us by phone or email.  \n  \n\nSponsored & Organized By: \nMarine Servicenter – Seattle/Bellingham/San Diego  \nwww.marinesc.com 206-323-2405; 360-770-0180; 619-733-0559 \n \n& \nJeanneau America\, Inc. Annapolis\, MD\nwww.jeanneau.com 410-280-9400
URL:https://marinesc.com/event/2022-1st-annual-socal-jeanneau-rendezvous/
LOCATION:Glorietta Bay\, Coronado\, CA\, 92118\, United States
CATEGORIES:rendezvous
ATTACH;FMTTYPE=image/png:https://marinesc.com/wp-content/uploads/2022/07/2022-1st-CA-JE-Rendezvous-Header.png
ORGANIZER;CN="Marine Servicenter":MAILTO:info@marinesc.com
END:VEVENT
END:VCALENDAR