BEGIN:VCALENDAR
VERSION:2.0
PRODID:-//Marine Servicenter - Yacht Sales - ECPv6.15.20//NONSGML v1.0//EN
CALSCALE:GREGORIAN
METHOD:PUBLISH
X-WR-CALNAME:Marine Servicenter - Yacht Sales
X-ORIGINAL-URL:https://marinesc.com
X-WR-CALDESC:Events for Marine Servicenter - Yacht Sales
REFRESH-INTERVAL;VALUE=DURATION:PT1H
X-Robots-Tag:noindex
X-PUBLISHED-TTL:PT1H
BEGIN:VTIMEZONE
TZID:America/Vancouver
BEGIN:DAYLIGHT
TZOFFSETFROM:-0800
TZOFFSETTO:-0700
TZNAME:PDT
DTSTART:20210314T100000
END:DAYLIGHT
BEGIN:STANDARD
TZOFFSETFROM:-0700
TZOFFSETTO:-0800
TZNAME:PST
DTSTART:20211107T090000
END:STANDARD
BEGIN:DAYLIGHT
TZOFFSETFROM:-0800
TZOFFSETTO:-0700
TZNAME:PDT
DTSTART:20220313T100000
END:DAYLIGHT
BEGIN:STANDARD
TZOFFSETFROM:-0700
TZOFFSETTO:-0800
TZNAME:PST
DTSTART:20221106T090000
END:STANDARD
BEGIN:DAYLIGHT
TZOFFSETFROM:-0800
TZOFFSETTO:-0700
TZNAME:PDT
DTSTART:20230312T100000
END:DAYLIGHT
BEGIN:STANDARD
TZOFFSETFROM:-0700
TZOFFSETTO:-0800
TZNAME:PST
DTSTART:20231105T090000
END:STANDARD
BEGIN:DAYLIGHT
TZOFFSETFROM:-0800
TZOFFSETTO:-0700
TZNAME:PDT
DTSTART:20240310T100000
END:DAYLIGHT
BEGIN:STANDARD
TZOFFSETFROM:-0700
TZOFFSETTO:-0800
TZNAME:PST
DTSTART:20241103T090000
END:STANDARD
BEGIN:DAYLIGHT
TZOFFSETFROM:-0800
TZOFFSETTO:-0700
TZNAME:PDT
DTSTART:20250309T100000
END:DAYLIGHT
BEGIN:STANDARD
TZOFFSETFROM:-0700
TZOFFSETTO:-0800
TZNAME:PST
DTSTART:20251102T090000
END:STANDARD
BEGIN:DAYLIGHT
TZOFFSETFROM:-0800
TZOFFSETTO:-0700
TZNAME:PDT
DTSTART:20260308T100000
END:DAYLIGHT
BEGIN:STANDARD
TZOFFSETFROM:-0700
TZOFFSETTO:-0800
TZNAME:PST
DTSTART:20261101T090000
END:STANDARD
BEGIN:DAYLIGHT
TZOFFSETFROM:-0800
TZOFFSETTO:-0700
TZNAME:PDT
DTSTART:20270314T100000
END:DAYLIGHT
BEGIN:STANDARD
TZOFFSETFROM:-0700
TZOFFSETTO:-0800
TZNAME:PST
DTSTART:20271107T090000
END:STANDARD
END:VTIMEZONE
BEGIN:VTIMEZONE
TZID:UTC
BEGIN:STANDARD
TZOFFSETFROM:+0000
TZOFFSETTO:+0000
TZNAME:UTC
DTSTART:20240101T000000
END:STANDARD
END:VTIMEZONE
BEGIN:VEVENT
DTSTART;TZID=America/Vancouver:20260308T100000
DTEND;TZID=America/Vancouver:20260308T170000
DTSTAMP:20260423T090412
CREATED:20240201T182554Z
LAST-MODIFIED:20260225T000127Z
UID:29137-1772964000-1772989200@marinesc.com
SUMMARY:Get to Know Jeanneau | Marina del Rey
DESCRIPTION:Don’t miss Marine Servicenter’s Get To Know Jeanneau in Marina del Rey on March 8th! Located on the docks at Marine Servicenter’s Los Angeles location\, step aboard a lineup of Jeanneau sailboat models. Make 2026 a dream with a new Jeanneau sailboat!  \nSUN ODYSSEY 350 \nSUN ODYSSEY 440 \nLocation: 4655 Admiralty Way suite 208\, Marina Del Rey\, CA 90292\nGET DIRECTIONS \nAll sailboat models listed above are available for private tours. Plus it’s a great opportunity to see these models in one place at one time! This is by appointment only in-person event designed to allow you to spend up to an hour on board with the Dealer in privacy. \n  \n  ↓ SCHEDULE YOUR TOUR TODAY ↓ \nEXCLUSIVE SAILBOAT TOUR | GET TO KNOW JEANNEAU MARINA DEL REY (CLICK HERE)
URL:https://marinesc.com/event/get-to-know-jeanneau-marina-del-rey/
LOCATION:Marina del Rey\, 4655 Admiralty Way\, Marina del Rey\, CA\, 90292\, United States
CATEGORIES:boat show,Boating Festival,Get To Know Jeanneau
ATTACH;FMTTYPE=image/jpeg:https://marinesc.com/wp-content/uploads/2024/02/IMG_0745-1-scaled.jpeg
ORGANIZER;CN="Marine Servicenter":MAILTO:info@marinesc.com
END:VEVENT
BEGIN:VEVENT
DTSTART;TZID=America/Vancouver:20260130T100000
DTEND;TZID=America/Vancouver:20260207T160000
DTSTAMP:20260423T090412
CREATED:20240110T214105Z
LAST-MODIFIED:20251230T220848Z
UID:28799-1769767200-1770480000@marinesc.com
SUMMARY:Get to Know Jeanneau | Seattle
DESCRIPTION:&\n \n  \nDon’t miss Marine Servicenter’s Get To Know Jeanneau in Seattle from January 30 through February 7\, 2026! Located on the docks at Marine Servicenter’s Lake Union location\, step aboard a lineup of Jeanneau sailboat models: \nSUN ODYSSEY 350 \nSUN ODYSSEY 380  Preformance \nSUN ODYSSEY 410 \nSUN ODYSSEY 440 \nLAGOON 42 \nLocation: 2442 Westlake Ave N.\, Seattle\, WA 98109\nGET DIRECTIONS \nAll sailboat models listed above PLUS a large selection of quality pre-owned sailboats are available for private tours. Plus it’s a great opportunity to see these sailboats in one place at one time! This is by appointment only in-person event designed to allow you to spend up to an hour on board with the Dealer in privacy. \n  \n  ↓ SCHEDULE YOUR TOUR TODAY ↓ \nPhone: 206.323.2405 Email: info@marinesc.com 
URL:https://marinesc.com/event/get-to-know-jeanneau-seattle/
LOCATION:Marine Servicenter\, 2442 Westlake Ave N\, SEATTLE\, WA\, 98109\, United States
CATEGORIES:boat show,Boating Festival,Get To Know Jeanneau
ATTACH;FMTTYPE=image/png:https://marinesc.com/wp-content/uploads/2024/01/MSC-San-Diego-GTKJ-Jan-2023-1920x1080-2.png
ORGANIZER;CN="Marine Servicenter":MAILTO:info@marinesc.com
END:VEVENT
BEGIN:VEVENT
DTSTART;TZID=America/Vancouver:20260130T080000
DTEND;TZID=America/Vancouver:20260207T180000
DTSTAMP:20260423T090413
CREATED:20220721T222153Z
LAST-MODIFIED:20251230T210037Z
UID:20881-1769760000-1770487200@marinesc.com
SUMMARY:2026 Seattle Boat Show
DESCRIPTION:The Seattle Boat Show\, Indoors + Afloat\, is the West Coast’s Largest Boat Show featuring 800 recreational watercraft\, from stand-up paddleboards to superyachts and everything in between! Plus\, check out more than three acres of accessories\, 126 free boating and fishing seminars\, and the latest & greatest in the boating world indoors at Lumen Field & afloat at Bell Harbour. \n  \nGET TICKETS | 2026 SEATTLE BOAT SHOW (CLICK HERE) \n  \n \nLumen Field Event Center – Indoor Show\nMarine Servicenter Booth\n  \n  \nBell Harbor Marina Afloat Show\n \n 2025 Jeanneau 440\nJeanneau 440\n  \n  \n \nNEW 2024 True North 34 Outboard Express\nTrue North 34 OE\n  \n \nNEW 2024 Catalina 355\nCatalina 355\n  \n \nNEW 2024 XO Crossover DFNDR 9\nXO DFNDR 9\n  \n \n  \nMarine Servicenter Sales Docks – Lake Union Sale Dock Event\n2442 Westlake Ave N. – On Lake Union:\n  \n \nJeanneau 410\n  \n \nJeanneau 380\n \nJeanneau 350\n \nLagoon Catamaran 42\n  \n  \n  \n \nLa Mare Modern 11\n  \n \nLife is too short to sit at the Dock! Will you be our next happy new owner in Southern California or the Pacific Northwest? Call or email today to schedule a viewing or demo sail and explore your life on the water!\nEmail: Info@marinesc.com\nPhone: (206) 323-2405\n 
URL:https://marinesc.com/event/2026-seattle-boat-show/
LOCATION:FL
CATEGORIES:boat show,Boating Festival,Get To Know Jeanneau,Lagoon Days
ATTACH;FMTTYPE=image/jpeg:https://marinesc.com/wp-content/uploads/2022/07/IMG_1524-scaled.jpeg
END:VEVENT
BEGIN:VEVENT
DTSTART;TZID=America/Vancouver:20251009T100000
DTEND;TZID=America/Vancouver:20251012T170000
DTSTAMP:20260423T090413
CREATED:20221122T215031Z
LAST-MODIFIED:20251004T155251Z
UID:22860-1760004000-1760288400@marinesc.com
SUMMARY:United States Sailboat Show 2025 - Annapolis
DESCRIPTION:From a seasoned sailor to a first-time boat buyer\, the United States Sailboat Show offers everything a boater needs. Every October\, sailors from around the globe gather on miles of docks in beautiful downtown historic Annapolis to experience hundreds of new and premiering boats\, boating gear and accessory exhibitors\, financing options\, all while enjoying tasting tents and the time to connect with fellow boaters. If you are looking to experience the ultimate sailing experience\, this show is a must-visit show! \nMarine Servicenter will be in Annapolis to help you!\nDan Krier – Cell 206-369-3348\nBryan Rhodes – Cell 206-910-3334\nTom Hall – Cell 858-262-3112\nCall our brokers during the show for a private tour of any Lagoon Model of interest to you.\nSHOW TIMES & TICKET PRICING\n \nVIP Day\, 10/9: 10:00am – 6:30pm \n10/10 – 10/11: 10:00am – 6:30pm \n10/12: 10:00am – 5:00pm \n*Boat Show Location – City Docks\, Annapolis\, MD \nGeneral Admission ~ $32 Online\n$32 at Gate for General Admission: Oct 9-12 (Box Office is located at Dock St.\, Exit Bus at 2nd Stop)\n$55 at Gate for Preview Day: Oct. 9 – All Ages\nChildren 7 to 15: $10 – General Admission\nChildren 6 and under are free.\nMilitary Personnel Day: $22 – Sunday\, October 12th only\, tickets available online but must show ID at gate. \n\n\n*Please purchase your tickets in advance. The onsite Box Office is limited. Your digital ticket will be scanned as you enter the show.\n\n \n6 NEW Jeanneau Sailboats on Display @ Dock F1 \nJeanneau Sailboats \n \n  \n4 NEW Lagoon Catamarans on Display @ Dock B\nLagoon New Catamarans \n  \n \n3 NEW Catalina Sailboats on Display @ Land 59\, Dock J2\nCatalina 6 Series Yachts  \n 
URL:https://marinesc.com/event/united-states-sailboat-show-2025-annapolis/
LOCATION:City Dock & Harbor\, 1 Dock Street\, Maryland\, MD\, 21401\, United States
CATEGORIES:boat show,Boating Festival
ATTACH;FMTTYPE=image/heic:https://marinesc.com/wp-content/uploads/2022/11/75029225628__769D1C26-88BF-4869-A13A-744FAFFFD541-scaled.jpg
END:VEVENT
BEGIN:VEVENT
DTSTART;TZID=America/Vancouver:20250911T100000
DTEND;TZID=America/Vancouver:20250914T180000
DTSTAMP:20260423T090413
CREATED:20240430T185321Z
LAST-MODIFIED:20250722T211756Z
UID:33015-1757584800-1757872800@marinesc.com
SUMMARY:2025 Seattle Fall Boats Afloat Show
DESCRIPTION:GET TICKETS | 2025 Fall Boats Afloat Show (CLICK HERE) \n  \n  \n \nThe Lake Union Boats Afloat show is presented by the Northwest Yacht Brokers Association (NYBA) and is recognized as the largest floating boat show on the West Coast.\nShow Dates & Times: \nThursday\, September 11th & Friday\, September 12th: 11 am – 6 pm \nSaturday\, September 13th: 10 am – 6 pm  \nSunday\, September 14th: 10 am – 5 pm  \nThe Boats Afloat Show is an idyllic destination from which to launch your next grand adventure. Tour vessels of all brands and styles\, speak with on-hand industry professionals and experience the latest innovations in boating technology and gear. Get Aweigh on the next boat of your dreams at the Boats Afloat Show. \nWe can’t wait to welcome you back! \nMarine Servicenter Inventory During Show:\nJeanneau 410 2C/1H \nNEW 2024 XO DFNDR 9 | SUMMER CLEARANCE SALE! | SAVE $34\,184! \nNEW 2024 Catalina 355 | SUMMER CLEARANCE SALE! | SAVE 41\,000! \nNEW 2024 True North 34 OE | SUMMER CLEARANCE SALE! | SAVE $75\,000!
URL:https://marinesc.com/event/seattle-fall-boats-afloat-show/
LOCATION:Lake Union Piers – South Lake Union\, 901 Fairview Avenue North\, Seattle\, WA\, 98109\, United States
CATEGORIES:boat show,Boating Festival
ATTACH;FMTTYPE=image/heic:https://marinesc.com/wp-content/uploads/2024/04/IMG_0733-scaled.jpg
END:VEVENT
BEGIN:VEVENT
DTSTART;TZID=UTC:20250425T110000
DTEND;TZID=UTC:20250427T170000
DTSTAMP:20260423T090413
CREATED:20220929T202127Z
LAST-MODIFIED:20250417T202843Z
UID:22277-1745578800-1745773200@marinesc.com
SUMMARY:2025 Seattle Boats Afloat Spring Show
DESCRIPTION:The Lake Union Boats Afloat show is presented by the Northwest Yacht Brokers Association (NYBA) and is recognized as the largest floating boat show on the West Coast.\nThe Boats Afloat Show is an idyllic destination from which to launch your next grand adventure. Tour vessels of all brands and styles\, speak with on-hand industry professionals and experience the latest innovations in boating technology and gear. Get Aweigh on the next boat of your dreams at the Boats Afloat Show. \nWe can’t wait to welcome you back! \n  \nMarine Servicenter Inventory During Show: \n2024 Jeanneau 490\n2024 Catalina 355\n2024 True North 34 OE\n2024 XO Crossover DFNDR 9\n2024 La Mare Modern 11 Houseboat\n\n\n\n  \nMarine Servicenter Jeanneau Arriving Stock:\nJeanneau Inventory\nMarine Servicenter Lagoon Arriving Stock:\n\n\n\nLagoon Inventory\n\n\n\n\n  \nLife is too short to sit at the Dock! Will you be our next happy new owner in Southern California or the Pacific Northwest? Call or email today to schedule a viewing or demo sail and explore your life on the water!\nEmail: info@marinesc.com\nPhone: (206) 323-2405\n 
URL:https://marinesc.com/event/2025-seattle-boats-afloat-spring-show/
LOCATION:Lake Union Piers – South Lake Union\, 901 Fairview Avenue North\, Seattle\, WA\, 98109\, United States
CATEGORIES:boat show,Boating Festival
ATTACH;FMTTYPE=image/jpeg:https://marinesc.com/wp-content/uploads/2022/09/BoatsAfloatShow_Logo_2CLR.jpg
END:VEVENT
BEGIN:VEVENT
DTSTART;TZID=America/Vancouver:20241030T120000
DTEND;TZID=America/Vancouver:20241103T180000
DTSTAMP:20260423T090413
CREATED:20240821T203702Z
LAST-MODIFIED:20240822T225516Z
UID:40572-1730289600-1730656800@marinesc.com
SUMMARY:Fort Lauderdale International Boat Show
DESCRIPTION:XO 44 North American Debut\nTrue North 39 Debut
URL:https://marinesc.com/event/fort-lauderdale-international-boat-show/
LOCATION:Fort Lauderdale\, Florida\, Fort Lauderdale\, FL\, 33323\, United States
CATEGORIES:boat show,Boating Festival
END:VEVENT
BEGIN:VEVENT
DTSTART;VALUE=DATE:20220906
DTEND;VALUE=DATE:20220912
DTSTAMP:20260423T090413
CREATED:20220720T235157Z
LAST-MODIFIED:20220721T224808Z
UID:20845-1662422400-1662940799@marinesc.com
SUMMARY:Cannes Yachting Festival 2022
DESCRIPTION:Cannes\, is an exceptional show in the heart of the french riviera.  The most eclectic show in the world! The Yachting Festival hosts every year an eclectic offer of boats from 5 to 45 meters on-water and less than 10 meters ashore. \nThese vessels are sail or motor\, monohull or multihull\, rigid or semi-rigid hull. The 2021 edition welcomed 620 boats\, 575 exhibitors\, and more than 141 world reviews.\n \nMeet the biggest actors in the boating industry and their latest innovations in unparalleled visiting conditions! \nCome and admire the most beautiful yachts and sailboats and take the helm of exceptional units during the sea trials! \n  \nVIEUX PORT\n\n\nCannes’ Vieux Port is one of the oldest harbors on the French Riviera. It enjoys a privileged place in the heart of the city of Cannes at the edge of an idyllic seafront and at the foot of Le Suquet hill. The image would be incomplete without the Lérins islands facing it. The port is bordered to the west by the boarding quay for the islands and to the east by the famous Albert-Edouard jetty along the Palais des Festivals\, providing more than half a kilometer of quayside to accommodate all the large yachts. \nIn 2022\, the Vieux Port will host more than 500 prestigious new motor boats ranging from 5 to 45 meters in-water in length\, presented by the world’s leading shipyards and featuring many new products. \nVieux Port is also the setting of the Luxury Gallery\, an area dedicated to luxury and the art of living.  \nVieux Port Info \n\n\n \nPORT CANTO\n\n\n\nOn the other side of the Croisette\, the Port Canto is the setting of the Sailing Area. In 2022\, it will bring more than 120 new sailing boats ranging from 10 to 28 meters in length\, both monohull and multihull\, with more than 20 global launches. These boats will be exhibited in water facing the stands of the shipyards\, equipment manufacturers\, and service companies. This large area is entirely dedicated to sailing. It adds another atmosphere to the trade show. \nThe Yacht Brokerage & Toys Area in Port Canto accommodates about 40 from 22 to 56 meters in length of previously-owned boats in the water\, available for sale or hire. The space on land is occupied by nautical toys which have become must-have accessories for big yachts or for a day at the beach.  \nPort Canto Info \n\n\n\n\nClick the below buttons for more information on Jeanneau and Lagoon Catamarans!\n \n\n\nJeanneau Info  \n  \n\n\n\n\n\n\nLagoon Info  \n\n  \n\n 
URL:https://marinesc.com/event/cannes-yachting-festival-2022/
LOCATION:Cannes – Vieux Port & Port Canto\, Cannes\, France
CATEGORIES:boat show,Boating Festival
ATTACH;FMTTYPE=image/jpeg:https://marinesc.com/wp-content/uploads/2022/07/4K-0X2A9161-1-ConvertImage-1-1-min-1-1.jpg
END:VEVENT
END:VCALENDAR